Workbook
Name AdditionalEvents: TableAdditionalEvents[Table: AdditionalEvents]
Name Exemption: List!$A$51:$A$61
Name NonLodgeReasonV2: List!$A$3:$A$16
Name Price: TablePrice[Table: Price]
Name Q2Select: List!$E$63
Name Q3Select: List!$E$64
Name Q4ASelect: List!$E$65
Name Q4BiiSelect: List!$E$76
Name Q4BiSelect: List!$E$66
Name Q4Bs3AiiSelect: List!$E$71
Name Q4Bs3AiSelect: List!$E$70
Name Q5ASelect: List!$E$18
Name Q5BSelect: List!$E$33
Name Q5CSelect: List!$E$50
Name Q5Select: List!$E$2
Name Q6Select: List!$E$67
Name Q7Select: List!$E$68
Name Years5A: TableYears5A[Table: Years5A]
Name Years5B: TableYears5B[Table: Years5B]
Name YesNo: List!$A$64:$A$66

Sheet Questionnaire
A2: Capital gains tax (CGT) – Property Discrepant (PD) information form
A3: Instructions: 1. Download this form to your device. 2. Complete the form by selecting your answers from the drop-down menus or type free text where prompted. To use the drop-down menu, select the cell in the Answer column next to the question. Then select the arrow in the bottom-right corner of the cell and select your answer from the list. 3. If you make a mistake or need to change your answer, select the cell and press delete to clear it. 4. Check your answers. 5. Save this form to your device as 'CGTPD.xls' or 'CGTPD.xlsx' and keep a copy for your records. 6. Submit the completed form as an email attachment. Send to: CGTProperty@ato.gov.au
A4: Question | B4: Answer
A5: 1. Enter your 13 Digit Reference ID as listed on your letter.
A7: 2. Did you report a capital gain/loss for a property disposal in the year stated in the letter? | B7: Please select…
A9: 3. Have you amended or are you intending to amend your tax return to add or change a capital gain, loss or exemption? | B9: Please select…
B10: =IF(OR(Q2Select=0,Q3Select=0),"",IF(AND(Q2Select=2,Q3Select=2),"Continue to question 5","Continue to question 4"))
A11: 4. If you have reported or are intending to report a capital gain or capital loss, please provide details of how you have calculated the CGT. If the reported amount is incorrect and requires an amendment, please provide the revised calculation.
A13: 4A. Is your CGT calculation more complex than can be accurately captured in this form? (For example: complex apportionments; subdivision of land across multiple lots; small business concessions; partial property sale/disposal etc) | B13: Please select…
B14: =IF(Q4ASelect=0,"",IF(Q4ASelect=1,"Continue to question 6","Continue to question 4B"))
A15: 4B. Details of how you calculated the CGT on your property sale/disposal
A17: Other than the property(ies) listed in your letter, did you have any additional CGT events during the year? | B17: Please select…
B18: =IF(Q4BiSelect=0,"",IF(Q4BiSelect=1,"Provide details below","Continue to Step 1"))
B19: Please select…
B20: {=IF(Q4BiiSelect=0,"",_xlfn.IFS(Q4BiiSelect=5,"Provide details below (100 character limit)",TRUE,"Continue to step 1"))}
B22: =IF(Q4BiiSelect=0,"",IF(Q4BiiSelect=5,"Continue to Step 1",""))
A23: Step 1: Enter the amount of Capital Proceeds received Capital proceeds = Sale Price or Market Value (if applicable) (Do not include sale costs such as agents fees, advertising, brokerage etc)
A25: Step 2: Enter the amount of the Purchase Price or Market Value (if applicable) (Do not include purchase costs such as stamp duty, conveyancing fees etc)
A27: Step 2A: For the purpose of calculating the capital gain or loss, did you apply the market value substitution rule (applicable in limited circumstances) or the actual acquisition/sale price?
A28: Purchase price | B28: Please select…
A30: Sale Price | B30: Please select…
A32: Step 3: Enter the total amount of all other costs Include costs associated with owning the asset, such as rates, land taxes, insurance premiums, capital improvements and renovations and Incidental costs, such as stamp duty, legal/conveyancing fees, agent fees/commission, advertising etc Note: Do not include any costs for which you have claimed a deduction
A34: Step 4: Partial main residence exemption (if eligible) If you've applied a partial main residence exemption what percentage of the Capital Gain is exempt (for example, 90%, 30%, 65%)
A36: Step 5: If the entire property was sold/disposed of and not just another party's share or your share of the property, what percentage of the property did you own? (for example, 100%, 50%, or 25%)
A38: Step 6: Capital Losses Total sum of current year capital losses and/or carried forward capital losses (where it's not relating to collectables)
A40: Step 7: CGT Discount % (if eligible)
A42: 5. If you think you do not need to report a capital gain or loss relating to the property, tell us why. | B42: Please select…
B43: {=IF(Q5Select=0,"",_xlfn.IFS(Q5Select=4,"Go to question 5C",Q5Select=6,"Go to question 5A",Q5Select=13,"Provide details below (100 character limit)",TRUE,"Go to question 6"))}
B45: {=IF(Q5Select=0,"",_xlfn.IFS(Q5Select=13,"Continue to question 6",TRUE,""))}
A46: 5A. What financial year did you sell the property? | B46: Please select…
B47: =IF(Q5ASelect=0,"","Continue to question 5B")
A48: 5B. What financial year did you report the sale? | B48: Please select…
B49: =IF(Q5BSelect=0,"","Continue to question 6")
A50: 5C. What exemption or rollover did you apply? | B50: Please select…
B51: {=IF(Q5CSelect=0,"",_xlfn.IFS(Q5CSelect=10,"Provide details below (100 character limit)",TRUE,"Go to question 6"))}
B53: {=IF(Q5CSelect=0,"",_xlfn.IFS(Q5CSelect=10,"Continue to question 6",TRUE,""))}
A54: 6. Has the property ever been used to generate rental income? | B54: Please select…
B55: =IF(Q6Select=0,"","Continue to question 7")
A56: 7. Has the property ever been used to generate business income? | B56: Please select…
B57: =IF(Q7Select=0,"","Continue to question 8")
...

Sheet List
D1: Question | E1: Currently selected values
A2: Table: NonLodgeReasonV2 | B2: Column1 | D2: Q5 | E2: =_xlfn.IFNA(VLOOKUP(Questionnaire!B42,TableNonLodgeReasonV2[],2,FALSE),0) -> 0
A3: Please select… | B3: 0
A4: I have not sold or disposed of my interest in the property or any portion of the property | B4: 1
A5: I have never owned, held an interest in, or had any connection with this property | B5: 2
A6: I did not believe that I had an ownership interest in the property, as I understood the property to be owned and sold by an associated party, such as a trust or relative. | B6: 3
A7: CGT exemption or rollover applied to the sale | B7: 4
A8: I believed I did not need to report CGT because I did not receive any money for transferring the property | B8: 5
A9: I sold/disposed of the property in another financial year | B9: 6
A10: No income or income/gain below $18,200 | B10: 7
A11: Tax Agent advised I do not need report CGT | B11: 8
A12: Friend/Associate advised I do not need to report CGT | B12: 9
A13: ATO advised I do not need to report CGT | B13: 10
A14: My capital gain was reduced to nil through the application of current year or carried forward capital losses. | B14: 11
... A16: Other | B16: 13
A18: Table: Years5A | B18: Column1 | D18: Q5A | E18: =_xlfn.IFNA(VLOOKUP(Questionnaire!B46,TableYears5A[],2,FALSE),0) -> 0
A19: Please select… | B19: 0
A20: 2016–17 | B20: 1
A21: 2017–18 | B21: 2
A22: 2018–19 | B22: 3
A23: 2019–20 | B23: 4
A24: 2020–21 | B24: 5
A25: 2021–22 | B25: 6
A26: 2022–23 | B26: 7
A27: 2023–24 | B27: 8
A28: 2024–25 | B28: 9
A29: 2025–26 | B29: 10
A30: 2026-27 | B30: 11
A31: 2027-28 | B31: 12
A33: Table: Years5B | B33: Column2 | D33: Q5B | E33: =_xlfn.IFNA(VLOOKUP(Questionnaire!B48,TableYears5B[],2,FALSE),0) -> 0
A34: Please select… | B34: 0
A35: Not reported | B35: 1
A36: 2016–17 | B36: 2
A37: 2017–18 | B37: 3
A38: 2018–19 | B38: 4
A39: 2019–20 | B39: 5
A40: 2020–21 | B40: 6
A41: 2021–22 | B41: 7
A42: 2022–23 | B42: 8
A43: 2023–24 | B43: 9
...
